BEGIN:VCALENDAR
VERSION:2.0
PRODID:-//wp-events-plugin.com//7.2.3.1//EN
TZID:Europe/Paris
X-WR-TIMEZONE:Europe/Paris
BEGIN:VEVENT
UID:66@osups.universite-paris-saclay.fr
DTSTART;TZID=Europe/Paris:20260226T110000
DTEND;TZID=Europe/Paris:20260226T120000
DTSTAMP:20260223T140751Z
URL:https://osups.universite-paris-saclay.fr/calendrier/measuring-the-cosm
 ic-microwave-background/
SUMMARY:Measuring the cosmic microwave background
DESCRIPTION:par Louise Mousset (IAS).\n\nAbstract :\n\nI joined the IAS las
 t September as a Maître de Conférences and I am working on various proje
 cts related to the cosmic microwave background (CMB)\, both on instrumenta
 tion and data analysis. The CMB is blackbody radiation with a measured tem
 perature of T = 2.7255 ± 0.0006 K. Emitted approximately 380\,000 years a
 fter the Big Bang\, during the formation of the first hydrogen atoms\, it 
 carries a wealth of information about the early universe. This seminar is 
 an opportunity for me to present my research work and also simply to intro
 duce myself. Through the various CMB projects I have worked on (QUBIC\, Li
 teBIRD\, COSMOCal\, etc.)\, I will try to highlight some of the challenges
  facing the community.\n\nLieu : IAS\, bât. 121\,  salle 1-2-3 (au RDC)\
 n\n&nbsp\;
CATEGORIES:Séminaires
LOCATION:IAS\, Bât. 121 rue Jean Teillac\, Orsay\, 91400\, France
X-APPLE-STRUCTURED-LOCATION;VALUE=URI;X-ADDRESS=Bât. 121 rue Jean Teillac\
 , Orsay\, 91400\, France;X-APPLE-RADIUS=100;X-TITLE=IAS:geo:0,0
END:VEVENT
BEGIN:VTIMEZONE
TZID:Europe/Paris
X-LIC-LOCATION:Europe/Paris
BEGIN:STANDARD
DTSTART:20251026T020000
TZOFFSETFROM:+0200
TZOFFSETTO:+0100
TZNAME:CET
END:STANDARD
END:VTIMEZONE
END:VCALENDAR